BEGIN:VCALENDAR
VERSION:2.0
PRODID:-//DiverseWorks Dance Co. - ECPv6.15.17.1//NONSGML v1.0//EN
CALSCALE:GREGORIAN
METHOD:PUBLISH
X-WR-CALNAME:DiverseWorks Dance Co.
X-ORIGINAL-URL:https://thediverse.ca
X-WR-CALDESC:Events for DiverseWorks Dance Co.
REFRESH-INTERVAL;VALUE=DURATION:PT1H
X-Robots-Tag:noindex
X-PUBLISHED-TTL:PT1H
BEGIN:VTIMEZONE
TZID:UTC
BEGIN:STANDARD
TZOFFSETFROM:+0000
TZOFFSETTO:+0000
TZNAME:UTC
DTSTART:20240101T000000
END:STANDARD
END:VTIMEZONE
BEGIN:VEVENT
DTSTART;TZID=UTC:20250131T080000
DTEND;TZID=UTC:20270131T170000
DTSTAMP:20260425T123645
CREATED:20250301T171805Z
LAST-MODIFIED:20250131T230714Z
UID:786-1738310400-1801414800@thediverse.ca
SUMMARY:Black Womyn Theatre Digital Archive Project
DESCRIPTION:
URL:https://thediverse.ca/event/black-womyn-theatre-digital-archive-project/
LOCATION:Virtual
END:VEVENT
END:VCALENDAR